BEGIN:VCALENDAR
VERSION:2.0
PRODID:-//ZorgThuis Noorderpoort - ECPv5.5.0//NONSGML v1.0//EN
CALSCALE:GREGORIAN
METHOD:PUBLISH
X-WR-CALNAME:ZorgThuis Noorderpoort
X-ORIGINAL-URL:http://www.zorgthuisnoorderpoort.nl
X-WR-CALDESC:Evenementen voor ZorgThuis Noorderpoort
BEGIN:VTIMEZONE
TZID:Europe/Amsterdam
BEGIN:DAYLIGHT
TZOFFSETFROM:+0100
TZOFFSETTO:+0200
TZNAME:CEST
DTSTART:20170326T010000
END:DAYLIGHT
BEGIN:STANDARD
TZOFFSETFROM:+0200
TZOFFSETTO:+0100
TZNAME:CET
DTSTART:20171029T010000
END:STANDARD
END:VTIMEZONE
BEGIN:VEVENT
DTSTART;TZID=Europe/Amsterdam:20171108T080000
DTEND;TZID=Europe/Amsterdam:20171108T100000
DTSTAMP:20260421T114300
CREATED:20171106T194011Z
LAST-MODIFIED:20171106T194011Z
UID:492-1510128000-1510135200@www.zorgthuisnoorderpoort.nl
SUMMARY:startontbijt ZorgThuis
DESCRIPTION:
URL:http://www.zorgthuisnoorderpoort.nl/agenda/startontbijt-zorgthuis/
END:VEVENT
END:VCALENDAR